BEGIN:VCALENDAR
VERSION:2.0
PRODID:-//Coco Dolenz - ECPv6.15.20//NONSGML v1.0//EN
CALSCALE:GREGORIAN
METHOD:PUBLISH
X-WR-CALNAME:Coco Dolenz
X-ORIGINAL-URL:https://www.cocodolenz.com
X-WR-CALDESC:Events for Coco Dolenz
REFRESH-INTERVAL;VALUE=DURATION:PT1H
X-Robots-Tag:noindex
X-PUBLISHED-TTL:PT1H
BEGIN:VTIMEZONE
TZID:UTC
BEGIN:STANDARD
TZOFFSETFROM:+0000
TZOFFSETTO:+0000
TZNAME:UTC
DTSTART:20210101T000000
END:STANDARD
END:VTIMEZONE
BEGIN:VEVENT
DTSTART;TZID=UTC:20220603T200000
DTEND;TZID=UTC:20220603T220000
DTSTAMP:20260420T204418
CREATED:20220311T210804Z
LAST-MODIFIED:20220312T194131Z
UID:1154-1654286400-1654293600@www.cocodolenz.com
SUMMARY:Felix Cavaliere's Rascals & Micky Dolenz
DESCRIPTION:
URL:https://www.cocodolenz.com/event/felix-cavalieres-rascals-micky-dolenz/
LOCATION:Palladium Times Square\, 1515 Broadway\, New York\, NY\, 10036\, United States
ATTACH;FMTTYPE=image/jpeg:https://www.cocodolenz.com/wp-content/uploads/2022/03/Micky-Felix-Edit.jpg
END:VEVENT
BEGIN:VEVENT
DTSTART;TZID=UTC:20220604T200000
DTEND;TZID=UTC:20220604T220000
DTSTAMP:20260420T204418
CREATED:20220311T210904Z
LAST-MODIFIED:20220312T194054Z
UID:1156-1654372800-1654380000@www.cocodolenz.com
SUMMARY:Felix Cavaliere's Rascals & Micky Dolenz Of The Monkees
DESCRIPTION:
URL:https://www.cocodolenz.com/event/felix-cavalieres-rascals-micky-dolenz-of-the-monkees-3/
LOCATION:Lynn Memorial Auditorium\, 3 City Hall Square\, Lynn\, MA\, 01901\, United States
ATTACH;FMTTYPE=image/jpeg:https://www.cocodolenz.com/wp-content/uploads/2022/03/Micky-Felix-Edit.jpg
END:VEVENT
BEGIN:VEVENT
DTSTART;TZID=UTC:20220616T190000
DTEND;TZID=UTC:20220616T210000
DTSTAMP:20260420T204418
CREATED:20220520T150919Z
LAST-MODIFIED:20220520T150919Z
UID:1274-1655406000-1655413200@www.cocodolenz.com
SUMMARY:Hot Summer Nights
DESCRIPTION:
URL:https://www.cocodolenz.com/event/hot-summer-nights/
LOCATION:Hot Summer Nights Gazebo\, 405 N. Rusk Street\, Sherman\, TX\, 75090-585775090-5857\, United States
ATTACH;FMTTYPE=image/jpeg:https://www.cocodolenz.com/wp-content/uploads/2022/05/Micky-Dolenz.jpg
END:VEVENT
END:VCALENDAR