BEGIN:VCALENDAR
VERSION:2.0
PRODID:-//Coco Dolenz - ECPv6.15.20//NONSGML v1.0//EN
CALSCALE:GREGORIAN
METHOD:PUBLISH
X-WR-CALNAME:Coco Dolenz
X-ORIGINAL-URL:https://www.cocodolenz.com
X-WR-CALDESC:Events for Coco Dolenz
REFRESH-INTERVAL;VALUE=DURATION:PT1H
X-Robots-Tag:noindex
X-PUBLISHED-TTL:PT1H
BEGIN:VTIMEZONE
TZID:UTC
BEGIN:STANDARD
TZOFFSETFROM:+0000
TZOFFSETTO:+0000
TZNAME:UTC
DTSTART:20220101T000000
END:STANDARD
END:VTIMEZONE
BEGIN:VEVENT
DTSTART;TZID=UTC:20230418T200000
DTEND;TZID=UTC:20230418T220000
DTSTAMP:20260420T082208
CREATED:20221112T185804Z
LAST-MODIFIED:20230418T142518Z
UID:1395-1681848000-1681855200@www.cocodolenz.com
SUMMARY:Performing With Micky Dolenz
DESCRIPTION:
URL:https://www.cocodolenz.com/event/performing-with-micky-dolenz-13/
LOCATION:Robins Theatre\, 160 E. Market St.\, Warren\, OH\, 44481\, United States
ATTACH;FMTTYPE=image/jpeg:https://www.cocodolenz.com/wp-content/uploads/2022/05/Micky-Dolenz.jpg
END:VEVENT
END:VCALENDAR