BEGIN:VCALENDAR
VERSION:2.0
PRODID:-//Coco Dolenz - ECPv6.15.20//NONSGML v1.0//EN
CALSCALE:GREGORIAN
METHOD:PUBLISH
X-WR-CALNAME:Coco Dolenz
X-ORIGINAL-URL:https://www.cocodolenz.com
X-WR-CALDESC:Events for Coco Dolenz
REFRESH-INTERVAL;VALUE=DURATION:PT1H
X-Robots-Tag:noindex
X-PUBLISHED-TTL:PT1H
BEGIN:VTIMEZONE
TZID:UTC
BEGIN:STANDARD
TZOFFSETFROM:+0000
TZOFFSETTO:+0000
TZNAME:UTC
DTSTART:20220101T000000
END:STANDARD
END:VTIMEZONE
BEGIN:VEVENT
DTSTART;VALUE=DATE:20230323
DTEND;VALUE=DATE:20230331
DTSTAMP:20260420T075745
CREATED:20221110T170349Z
LAST-MODIFIED:20221110T170349Z
UID:1326-1679529600-1680220799@www.cocodolenz.com
SUMMARY:Performing With Micky Dolenz - Flower Power Cruise
DESCRIPTION:
URL:https://www.cocodolenz.com/event/performing-with-micky-dolenz-flower-power-cruise/
LOCATION:Flower Power Cruise
ATTACH;FMTTYPE=image/png:https://www.cocodolenz.com/wp-content/uploads/2022/11/Flower-Power-Cruise.png
END:VEVENT
END:VCALENDAR