BEGIN:VCALENDAR
VERSION:2.0
PRODID:-//Coco Dolenz - ECPv6.15.20//NONSGML v1.0//EN
CALSCALE:GREGORIAN
METHOD:PUBLISH
X-ORIGINAL-URL:https://www.cocodolenz.com
X-WR-CALDESC:Events for Coco Dolenz
REFRESH-INTERVAL;VALUE=DURATION:PT1H
X-Robots-Tag:noindex
X-PUBLISHED-TTL:PT1H
BEGIN:VTIMEZONE
TZID:UTC
BEGIN:STANDARD
TZOFFSETFROM:+0000
TZOFFSETTO:+0000
TZNAME:UTC
DTSTART:20210101T000000
END:STANDARD
END:VTIMEZONE
BEGIN:VEVENT
DTSTART;TZID=UTC:20220514T200000
DTEND;TZID=UTC:20220514T220000
DTSTAMP:20260420T235840
CREATED:20220311T210633Z
LAST-MODIFIED:20220312T194205Z
UID:1152-1652558400-1652565600@www.cocodolenz.com
SUMMARY:Felix Cavaliere's Rascals & Micky Dolenz of the Monkees
DESCRIPTION:
URL:https://www.cocodolenz.com/event/felix-cavalieres-rascals-micky-dolenz-of-the-monkees-2/
LOCATION:Patchogue Theatre for the Performing Arts\, 71 E Main Street\, Patchogue\, NY\, 11772\, United States
ATTACH;FMTTYPE=image/jpeg:https://www.cocodolenz.com/wp-content/uploads/2022/03/Micky-Felix-Edit.jpg
END:VEVENT
END:VCALENDAR