BEGIN:VCALENDAR
VERSION:2.0
PRODID:-//Coco Dolenz - ECPv6.15.20//NONSGML v1.0//EN
CALSCALE:GREGORIAN
METHOD:PUBLISH
X-ORIGINAL-URL:https://www.cocodolenz.com
X-WR-CALDESC:Events for Coco Dolenz
REFRESH-INTERVAL;VALUE=DURATION:PT1H
X-Robots-Tag:noindex
X-PUBLISHED-TTL:PT1H
BEGIN:VTIMEZONE
TZID:UTC
BEGIN:STANDARD
TZOFFSETFROM:+0000
TZOFFSETTO:+0000
TZNAME:UTC
DTSTART:20210101T000000
END:STANDARD
END:VTIMEZONE
BEGIN:VEVENT
DTSTART;TZID=UTC:20220424T193000
DTEND;TZID=UTC:20220424T213000
DTSTAMP:20260421T014050
CREATED:20220311T210402Z
LAST-MODIFIED:20220312T194313Z
UID:1147-1650828600-1650835800@www.cocodolenz.com
SUMMARY:Legends Live Tour Featuring Felix Cavaliere's Rascals & Micky Dolenz of the Monkees
DESCRIPTION:
URL:https://www.cocodolenz.com/event/legends-live-tour-featuring-felix-cavalieres-rascals-micky-dolenz-of-the-monkees/
LOCATION:Keswick Theatre\, 291 N Keswick Avenue\, Glenside\, PA\, 19038\, United States
ATTACH;FMTTYPE=image/jpeg:https://www.cocodolenz.com/wp-content/uploads/2022/03/Micky-Felix-Edit.jpg
END:VEVENT
END:VCALENDAR