BEGIN:VCALENDAR
VERSION:2.0
PRODID:-//Coco Dolenz - ECPv6.15.20//NONSGML v1.0//EN
CALSCALE:GREGORIAN
METHOD:PUBLISH
X-ORIGINAL-URL:https://www.cocodolenz.com
X-WR-CALDESC:Events for Coco Dolenz
REFRESH-INTERVAL;VALUE=DURATION:PT1H
X-Robots-Tag:noindex
X-PUBLISHED-TTL:PT1H
BEGIN:VTIMEZONE
TZID:UTC
BEGIN:STANDARD
TZOFFSETFROM:+0000
TZOFFSETTO:+0000
TZNAME:UTC
DTSTART:20210101T000000
END:STANDARD
END:VTIMEZONE
BEGIN:VEVENT
DTSTART;TZID=UTC:20220423T193000
DTEND;TZID=UTC:20220423T213000
DTSTAMP:20260421T013849
CREATED:20220311T205624Z
LAST-MODIFIED:20220312T194346Z
UID:1142-1650742200-1650749400@www.cocodolenz.com
SUMMARY:Felix Cavaliere's Rascals & Micky Dolenz The Voice of the Monkees
DESCRIPTION:
URL:https://www.cocodolenz.com/event/felix-cavalieres-rascals-micky-dolenz-the-voice-of-the-monkees/
LOCATION:American Music Theatre\, 2425 Lincoln Hwy East\, Lancaster\, PA\, 17602\, United States
ATTACH;FMTTYPE=image/jpeg:https://www.cocodolenz.com/wp-content/uploads/2022/03/Micky-Felix-Edit.jpg
END:VEVENT
END:VCALENDAR