BEGIN:VCALENDAR
VERSION:2.0
PRODID:-//Coco Dolenz - ECPv6.15.20//NONSGML v1.0//EN
CALSCALE:GREGORIAN
METHOD:PUBLISH
X-WR-CALNAME:Coco Dolenz
X-ORIGINAL-URL:https://www.cocodolenz.com
X-WR-CALDESC:Events for Coco Dolenz
REFRESH-INTERVAL;VALUE=DURATION:PT1H
X-Robots-Tag:noindex
X-PUBLISHED-TTL:PT1H
BEGIN:VTIMEZONE
TZID:UTC
BEGIN:STANDARD
TZOFFSETFROM:+0000
TZOFFSETTO:+0000
TZNAME:UTC
DTSTART:20210101T000000
END:STANDARD
END:VTIMEZONE
BEGIN:VEVENT
DTSTART;TZID=UTC:20220408T200000
DTEND;TZID=UTC:20220408T220000
DTSTAMP:20260421T013707
CREATED:20220308T195130Z
LAST-MODIFIED:20220311T202619Z
UID:1087-1649448000-1649455200@www.cocodolenz.com
SUMMARY:Micky Dolenz Celebrates The Monkees
DESCRIPTION:
URL:https://www.cocodolenz.com/event/micky-dolenz-celebrates-the-monkees-3/
LOCATION:Brown County Music Center\, 200 Maple Leaf Boulevard\, Nashville\, 47448\, United States
ATTACH;FMTTYPE=image/jpeg:https://www.cocodolenz.com/wp-content/uploads/2022/03/Micky-Celebrates.jpg
END:VEVENT
END:VCALENDAR